BEGIN:VCALENDAR
VERSION:2.0
PRODID:-//PARQUE COLMENAR - ECPv6.15.20//NONSGML v1.0//EN
CALSCALE:GREGORIAN
METHOD:PUBLISH
X-WR-CALNAME:PARQUE COLMENAR
X-ORIGINAL-URL:https://parquecolmenar.org
X-WR-CALDESC:Eventos para PARQUE COLMENAR
REFRESH-INTERVAL;VALUE=DURATION:PT1H
X-Robots-Tag:noindex
X-PUBLISHED-TTL:PT1H
BEGIN:VTIMEZONE
TZID:Europe/Madrid
BEGIN:DAYLIGHT
TZOFFSETFROM:+0100
TZOFFSETTO:+0200
TZNAME:CEST
DTSTART:20170326T010000
END:DAYLIGHT
BEGIN:STANDARD
TZOFFSETFROM:+0200
TZOFFSETTO:+0100
TZNAME:CET
DTSTART:20171029T010000
END:STANDARD
BEGIN:DAYLIGHT
TZOFFSETFROM:+0100
TZOFFSETTO:+0200
TZNAME:CEST
DTSTART:20180325T010000
END:DAYLIGHT
BEGIN:STANDARD
TZOFFSETFROM:+0200
TZOFFSETTO:+0100
TZNAME:CET
DTSTART:20181028T010000
END:STANDARD
BEGIN:DAYLIGHT
TZOFFSETFROM:+0100
TZOFFSETTO:+0200
TZNAME:CEST
DTSTART:20190331T010000
END:DAYLIGHT
BEGIN:STANDARD
TZOFFSETFROM:+0200
TZOFFSETTO:+0100
TZNAME:CET
DTSTART:20191027T010000
END:STANDARD
END:VTIMEZONE
BEGIN:VEVENT
DTSTART;TZID=Europe/Madrid:20180721T120000
DTEND;TZID=Europe/Madrid:20180722T160000
DTSTAMP:20260420T162127
CREATED:20180402T094755Z
LAST-MODIFIED:20180402T094755Z
UID:2107-1532174400-1532275200@parquecolmenar.org
SUMMARY:REUNION DE ESCUELA
DESCRIPTION:
URL:https://parquecolmenar.org/event/reunion-de-escuela/
END:VEVENT
BEGIN:VEVENT
DTSTART;TZID=Europe/Madrid:20180701T100000
DTEND;TZID=Europe/Madrid:20180701T170000
DTSTAMP:20260420T162127
CREATED:20180402T100245Z
LAST-MODIFIED:20180402T100245Z
UID:2123-1530439200-1530464400@parquecolmenar.org
SUMMARY:ENCUENTRO MENSUAL
DESCRIPTION:
URL:https://parquecolmenar.org/event/encuentro-mensual-2/
END:VEVENT
BEGIN:VEVENT
DTSTART;TZID=Europe/Madrid:20180617T100000
DTEND;TZID=Europe/Madrid:20180617T220000
DTSTAMP:20260420T162127
CREATED:20180402T095347Z
LAST-MODIFIED:20180402T095347Z
UID:2114-1529229600-1529272800@parquecolmenar.org
SUMMARY:Celebracion Estacional Junio
DESCRIPTION:
URL:https://parquecolmenar.org/event/celebracion-estacional-junio/
LOCATION:parque colmenar\, Málaga\, España
ORGANIZER;CN="parque colmenar":MAILTO:colmenarparque@gmail.com
END:VEVENT
BEGIN:VEVENT
DTSTART;TZID=Europe/Madrid:20180616T100000
DTEND;TZID=Europe/Madrid:20180617T200000
DTSTAMP:20260420T162127
CREATED:20180402T100106Z
LAST-MODIFIED:20180402T100106Z
UID:2120-1529143200-1529265600@parquecolmenar.org
SUMMARY:ESTUDIO DE MATERIALES
DESCRIPTION:
URL:https://parquecolmenar.org/event/estudio-de-materiales-2/
END:VEVENT
BEGIN:VEVENT
DTSTART;TZID=Europe/Madrid:20180527T100000
DTEND;TZID=Europe/Madrid:20180527T220000
DTSTAMP:20260420T162127
CREATED:20180402T095951Z
LAST-MODIFIED:20180402T095951Z
UID:2118-1527415200-1527458400@parquecolmenar.org
SUMMARY:encuentro mensual
DESCRIPTION:
URL:https://parquecolmenar.org/event/encuentro-mensual/
LOCATION:parque colmenar\, Málaga\, España
END:VEVENT
BEGIN:VEVENT
DTSTART;TZID=Europe/Madrid:20180506T100000
DTEND;TZID=Europe/Madrid:20180506T200000
DTSTAMP:20260420T162127
CREATED:20180402T095207Z
LAST-MODIFIED:20180402T095207Z
UID:2111-1525600800-1525636800@parquecolmenar.org
SUMMARY:celebracion 4 de mayo
DESCRIPTION:
URL:https://parquecolmenar.org/event/celebracion-4-de-mayo/
LOCATION:parque colmenar\, Málaga\, España
ORGANIZER;CN="parque colmenar":MAILTO:colmenarparque@gmail.com
END:VEVENT
BEGIN:VEVENT
DTSTART;TZID=Europe/Madrid:20180501T100000
DTEND;TZID=Europe/Madrid:20180501T180000
DTSTAMP:20260420T162127
CREATED:20180409T073422Z
LAST-MODIFIED:20180409T073422Z
UID:2380-1525168800-1525197600@parquecolmenar.org
SUMMARY:seminario La Curacion del Sufrimiento
DESCRIPTION:
URL:https://parquecolmenar.org/event/seminario-la-curacion-del-sufrimiento/
ORGANIZER;CN="Comunidad del Fuego":MAILTO:comunidaddelfuegomalaga@gmail.com
END:VEVENT
BEGIN:VEVENT
DTSTART;TZID=Europe/Madrid:20180428T080000
DTEND;TZID=Europe/Madrid:20180429T140000
DTSTAMP:20260420T162127
CREATED:20180402T092943Z
LAST-MODIFIED:20180402T092943Z
UID:2096-1524902400-1525010400@parquecolmenar.org
SUMMARY:retiro de ascesis
DESCRIPTION:
URL:https://parquecolmenar.org/event/retiro-de-ascesis/
LOCATION:parque colmenar\, Málaga\, España
ORGANIZER;CN="pepe  caro":MAILTO:pepecaro_26@hotmail.com
END:VEVENT
BEGIN:VEVENT
DTSTART;TZID=Europe/Madrid:20180414T160000
DTEND;TZID=Europe/Madrid:20180415T200000
DTSTAMP:20260420T162127
CREATED:20180402T095525Z
LAST-MODIFIED:20180402T095525Z
UID:2116-1523721600-1523822400@parquecolmenar.org
SUMMARY:Estudio de Materiales
DESCRIPTION:
URL:https://parquecolmenar.org/event/estudio-de-materiales/
END:VEVENT
BEGIN:VEVENT
DTSTART;TZID=Europe/Madrid:20180408T100000
DTEND;TZID=Europe/Madrid:20180408T200000
DTSTAMP:20260420T162127
CREATED:20180402T094934Z
LAST-MODIFIED:20180402T094934Z
UID:2109-1523181600-1523217600@parquecolmenar.org
SUMMARY:Encuentro Iniciacion al Fuego
DESCRIPTION:
URL:https://parquecolmenar.org/event/encuentro-iniciacion-al-fuego/
END:VEVENT
END:VCALENDAR